BEGIN:VCALENDAR
VERSION:2.0
PRODID:-//wp-events-plugin.com//6.0.1.1//EN
BEGIN:VEVENT
UID:50c4a875-9559-4cb5-80c6-c7225e987eb0
DTSTART:20261026T090000Z
DTEND:20261028T190000Z
DTSTAMP:20260313T210020Z
SUMMARY:Global Clinical And Aesthetic Dermatology Conference 2026
DESCRIPTION:The Global Clinical and Aesthetic Dermatology Conference (GCAD 2026)\, scheduled for October 26–28\, 2026\, Boston\, Massachusetts\, United States and Online is an international forum designed to bring together dermatologists\, cosmetic physicians\, researchers\, skincare specialists\, and healthcare professionals dedicated to advancing clinical and aesthetic dermatology.
LOCATION:Boston\, Massachusetts\, United States\, Hilton Boston/Woburn 2 Forbes Road\, Woburn\, Massachusetts\, 01801\, USA\, Boston\, United states\, 01801\, United States
URL:https://eventstopten.com/events/global-clinical-and-aesthetic-dermatology-conference-2026/
END:VEVENT
END:VCALENDAR