BEGIN:VCALENDAR
VERSION:2.0
PRODID:-//wp-events-plugin.com//6.0.1.1//EN
BEGIN:VEVENT
UID:f02732a0-ceee-4772-b4b5-609d38fc47e6
DTSTART:20261029T090000Z
DTEND:20261030T190000Z
DTSTAMP:20260314T183029Z
SUMMARY:DigiMarCon South 2026 - Digital Marketing\, Media and Advertising Conference &amp\; Exhibition
DESCRIPTION:Digital Marketing\, Media and Advertising Conference &amp\; Exhibition - October 29-30\, 2026 - San Antonio\, TX
LOCATION:The Westin San Antonio North Hotel\, 9821 Colonnade Blvd\, San Antonio\, Texas\, 78230\, Texas\, United States
URL:https://eventstopten.com/events/digimarcon-south-2026-digital-marketing-media-and-advertising-conference-exhibition/
END:VEVENT
END:VCALENDAR