BEGIN:VCALENDAR
VERSION:2.0
PRODID:-//wp-events-plugin.com//6.0.1.1//EN
BEGIN:VEVENT
UID:243844af-c536-4a9b-a1f9-345f5ea6c849
DTSTART:20261001T090000Z
DTEND:20261002T170000Z
DTSTAMP:20260314T143013Z
SUMMARY:DigiMarCon Africa 2026 - Digital Marketing\, Media and Advertising Conference &amp\; Exhibition
DESCRIPTION:Digital Marketing\, Media and Advertising Conference &amp\; Exhibition - October 1-2\, 2026 - Cape Town\, South Africa
LOCATION:Cape Town\, 40 Dock Rd\, Victoria &amp\; Alfred Waterfront\, Cape Town\, Gauteng\, 8001\, Gauteng\, South Africa
URL:https://eventstopten.com/events/digimarcon-africa-2026-digital-marketing-media-and-advertising-conference-exhibition/
END:VEVENT
END:VCALENDAR