BEGIN:VCALENDAR
VERSION:2.0
PRODID:-//wp-events-plugin.com//6.0.1.1//EN
BEGIN:VEVENT
UID:7a7459b1-d79b-4728-983a-609c0f7e3774
DTSTART:20260420T090000Z
DTEND:20260424T190000Z
DTSTAMP:20260422T153222Z
SUMMARY:DevOpsCon Amsterdam 2026
DESCRIPTION:\n\n\n\n\n\n\nDevOpsCon Amsterdam 2026 is a leading conference for DevOps\, cloud\, automation\, and platform engineering\, bringing together developers\, operations teams\, and technology leaders to share practical insights\, explore emerging tools\, and improve modern software delivery.\n\n\n\n\n\n\n\n\n\n
LOCATION:Van der Valk Hotel Amsterdam - Amstel\, Joan Muyskenweg 20\, 1096 CJ Amsterdam\, Netherlands\, Amsterdam\, Amsterdam\, 1096 CJ\, Netherlands
URL:https://eventstopten.com/events/devopscon-amsterdam-2026/
END:VEVENT
END:VCALENDAR