BEGIN:VCALENDAR
VERSION:2.0
PRODID:-//wp-events-plugin.com//6.0.1.1//EN
BEGIN:VEVENT
UID:dbf29f73-bb8f-4772-8367-82e321c509ed
DTSTART:20260423T080000Z
DTEND:20260423T170000Z
DTSTAMP:20260422T153231Z
SUMMARY:Data and AI Architecture Singapore 2026
DESCRIPTION:Gain practical guidance on building AI-ready architectures\, modernising data pipelines\, and strengthening governance across complex environments. Learn from real case studies\, benchmark with peers\, and discover emerging strategies in real-time data\, federated ownership\, and next-gen platforms. Whether you're evolving your data stack or planning a full transformation\, you'll leave with actionable insights to accelerate your organisation's data maturity.\n\nData and AI architecture leaders from Singapore and across APAC\, including CDOs\, AI Architects\, Enterprise Architects\, Heads of Data Engineering\, Data Governance\, Cloud Platforms\, MLOps\, and AI Strategy. You'll meet practitioners from government\, financial services\, logistics\, technology\, healthcare\, and consumer industries - professionals responsible for designing\, scaling\, and governing the data systems that power modern\, intelligent organisations.
LOCATION:Equarius Hotel\, 16 Sentosa Gateway\, Singapore\, Singapore\, 098133\, Singapore
URL:https://eventstopten.com/events/data-and-ai-architecture-singapore-2026/
END:VEVENT
END:VCALENDAR