BEGIN:VCALENDAR
VERSION:2.0
PRODID:-//wp-events-plugin.com//6.0.1.1//EN
BEGIN:VEVENT
UID:465f1ffc-6981-47bf-8f7f-010d32cc9ab5
DTSTART:20260517T183000Z
DTEND:20260517T203000Z
DTSTAMP:20260422T000146Z
SUMMARY:Composers Concordance    Sh*t L*szt    Part of the 14th Annual CompCord Festival – Comedy
DESCRIPTION:New York\, NY - Composers Concordance launches its 14th Annual CompCord Festival – Comedy with Sh*t L*szt\, a daring\, humorous\, and genre-bending concert that takes apart the myth\, spectacle\, and excesses of Franz Liszt. Through inventive new works\, spoken word\, and fearless performance\, the program reimagines Romantic virtuosity with wit\, irreverence\, and bold creativity.\n\nFeatured works include: Shit List by Gene Pritsker\, for baritone\, soprano\, violin\, and guitar\; To do Liszt by Leo Genovese\; and B.ovine S.cherzo for solo viola by Audrey Morse.\n\nComposers:\n\nAaron Alter\, Lynn Bechtold\, Dan Cooper\, Tom Lehrer\, Leo Genovese\, Audrey Morse\, Daniel Palkowski\, Gene Pritsker\, Emiliano Revert\, David Wolfson\n\nPerformers:\n\nLeo Genovese &amp\; Daniel Palkowski (piano)\, Sara Paar (soprano)\, Charles Coleman (baritone)\, Audrey Morse (violin/viola)\, Gene Pritsker (guitar)\n\nThe Red Microphone: Laurie Towers (bass) &amp\; John Pietaro (poet/percussion)\n\nPoets: Peter Christian Hall\, Kat Georges\, Peter Carlaftes\, Robert C. Ford\,\n\nRuthie Adamson (Wonky Wordsmith)\n\nA playful collision of music\, text\, and theatricality\, S*ht L*szt turns classical tradition inside out.\nThe concert will also be live-streamed on Composers Concordance's Facebook Page.
LOCATION:St. Mark's Church in-the-Bowery\, 131 E. 10th St\, New York City\, New York\, 10003\, New York\, United States
URL:https://eventstopten.com/events/composers-concordance-sht-lszt-part-of-the-14th-annual-compcord-festival-comedy/
END:VEVENT
END:VCALENDAR