BEGIN:VCALENDAR
VERSION:2.0
PRODID:-//wp-events-plugin.com//6.0.1.1//EN
BEGIN:VEVENT
UID:5977a72e-8211-4f61-8253-b607ad4d51fd
DTSTART:20260526T090000Z
DTEND:20260527T170000Z
DTSTAMP:20260313T110041Z
SUMMARY:China Battery Energy Storage Summit 2026
DESCRIPTION:The summit will bring together leading global energy technology providers\, grid companies\, end-users\, and investment institutions to engage in in-depth discussions on global energy storage market trends\, electricity market mechanisms\, commercial and stand-alone energy storage business models\, next-generation battery technologies\, grid-based energy storage\, virtual power plants\, and the application in data centers and charging infrastructure. The summit aims to establish a high-level\, international exchange platform to promote the coordinated development of the energy storage industry in China and globally\, and accelerate the large-scale and commercial deployment of energy storage in new power systems.\n\n&nbsp\;\n\nThe summit covers all-industry-chain hotspots in energy storage\, including:\n\nGlobal Market Opportunities: Energy crisis in Europe\, outbreak of emerging markets\, and overseas expansion strategies for Chinese enterprises\n\nFrontiers of Technological Innovation: 600Ah+ Large-Capacity Cells\, sodium-ion batteries\, grid-forming energy storage\, and direct cooling immersion systems\n\nBreakthroughs in Commercial Applications: Commercial and industrial energy storage\, independent energy storage transactions\, virtual power plant aggregation\, and energy storage as a service (ESaaS)\n\nSystem Integration and Safety: In-depth intelligent BMS\, PCS-EMS collaboration\, and high-safety integrated solutions\n\nCross-Border Integration Scenarios: Data center + energy storage\, electric vehicle charging facilities + energy storage\, and 5G base station + energy storage
LOCATION:\, \, 
URL:https://eventstopten.com/events/china-battery-energy-storage-summit-2026/
END:VEVENT
END:VCALENDAR