BEGIN:VCALENDAR
VERSION:2.0
PRODID:-//wp-events-plugin.com//6.0.1.1//EN
BEGIN:VEVENT
UID:84f21ce8-5740-4a5e-8553-7fa6c6b31e64
DTSTART:20260422T080000Z
DTEND:20260423T170000Z
DTSTAMP:20260422T153226Z
SUMMARY:Chief Data and Analytics Officer (CDAO) Singapore 2026
DESCRIPTION:CDAO Singapore 2026 brings together the region's most influential data\, analytics\, and AI leaders for two days of strategic insights and practical learning. You'll explore the latest shifts in data readiness\, responsible AI\, governance\, platform modernisation\, and value realisation. Expect honest conversations\, real case studies\, and actionable takeaways designed to help you strengthen your strategy and accelerate your organisation's data and AI ambitions.\n\nJoin 400+ senior professionals across data\, analytics\, AI\, engineering\, governance\, and digital transformation from Singapore's leading organisations. Expect Chief Data Officers\, Heads of Data\, AI leaders\, architects\, platform directors\, and governance specialists from banking\, tech\, public sector\, healthcare\, telcos\, transport\, and more - all coming together to share experiences\, network\, and shape the future of data and AI in the region.
LOCATION:Equarius Hotel\, 16 Sentosa Gateway\, Singapore\, Singapore\, 098133\, Singapore
URL:https://eventstopten.com/events/chief-data-and-analytics-officer-cdao-singapore-2026/
END:VEVENT
END:VCALENDAR