BEGIN:VCALENDAR
VERSION:2.0
PRODID:-//wp-events-plugin.com//6.0.1.1//EN
BEGIN:VEVENT
UID:9b897909-e286-477d-83f3-b02224cae3c7
DTSTART:20261026T070000Z
DTEND:20261028T120000Z
DTSTAMP:20260313T073132Z
SUMMARY:Cases in Echocardiography\, Cardiac CT\, and MRI at The Meritage Resort and Spa
DESCRIPTION:The program consists primarily of clinical cases which illustrate the problems cardiovascular specialists commonly encounter. Multiple choice questions addressing the clinical utility and limitations of echocardiography follow each case. Utilization of cardiac CT and MRI is also incorporated into the cases. In addition\, faculty presents “rapid fire” and “unknown” cases.\n\nSpecial breakout sessions are devoted to the interpretation of Doppler hemodynamics\, stress echocardiography\, multimodality imaging\, and congenital heart disease.
LOCATION:\, \, 
URL:https://eventstopten.com/events/cases-in-echocardiography-cardiac-ct-and-mri-at-the-meritage-resort-and-spa/
END:VEVENT
END:VCALENDAR