BEGIN:VCALENDAR
VERSION:2.0
PRODID:-//wp-events-plugin.com//6.0.1.1//EN
BEGIN:VEVENT
UID:c7984a9b-6ca5-4f9e-9697-c8f5fe536c94
DTSTART;VALUE=DATE:20261120
DTEND;VALUE=DATE:20261122
DTSTAMP:20260330T080048Z
SUMMARY:Cancer Science Conference 2026
DESCRIPTION:We are excited to welcome researchers\, therapists\, healthcare professionals\, and cancer science enthusiasts worldwide to the "4th International Conference on Cancer and Breast Cancer Treatment." Happening on November 20-21\, 2026\, in Bangkok\, Thailand\, this forum explores the theme of “Integrating Innovation in Cancer and Breast Cancer Treatment for Better Patient Outcomes” The conference offers various sessions\, including keynotes\, workshops\, posters\, video presentations\, e-posters\, and exhibitor show cases at the Cancer and Breast Cancer Treatment Conference.\n\nFor those unable to attend in person\, the Cancer and Breast Cancer Treatment Webinar\, scheduled for November 27-28\, 2026\, via Zoom in Thailand (GMT+7)\, provides an excellent opportunity to participate remotely. Don’t miss this chance to contribute to the global dialogue on cancer and breast cancer treatment!
LOCATION:Grand Mercure Bangkok Atrium\, 1880 Petchburi Road\, Bangkapi Huay Kwang\, Bangkok\, Thailand\, 10310\, Southeast Region\, Thailand
URL:https://eventstopten.com/events/cancer-science-conference-2026/
END:VEVENT
END:VCALENDAR