BEGIN:VCALENDAR
VERSION:2.0
PRODID:-//wp-events-plugin.com//6.0.1.1//EN
BEGIN:VEVENT
UID:e5038f66-8877-46cf-af02-0598a9f21b0a
DTSTART:20260520T090000Z
DTEND:20260523T180000Z
DTSTAMP:20260313T113042Z
SUMMARY:Bakery China 2026
DESCRIPTION:The China International Bakery Exhibition (Bakery China) is jointly organized by the China Baking Industry Association and Beijing Bakerly Exhibition Service Co.\, Ltd. Founded in 1997\, this annual industry event serves the entire baking industry chain\, integrating business matchmaking\, industry exchange\, innovation\, brand promotion\, trend insights\, business cooperation\, and technical exchanges into one comprehensive platform. It is a globally leading and highly influential professional trade show for the baking industry.
LOCATION:Shanghai Hongqiao National Convention and Exhibition Center\, Shanghai Hongqiao National Convention and Exhibition Center\, shanghai\, china\, 12345\, China
URL:https://eventstopten.com/events/bakery-china-2026/
END:VEVENT
END:VCALENDAR