BEGIN:VCALENDAR
VERSION:2.0
PRODID:-//wp-events-plugin.com//6.0.1.1//EN
BEGIN:VEVENT
UID:ac9d1a5f-8678-4516-8f6c-6b68b3860037
DTSTART:20260917T090000Z
DTEND:20260918T180000Z
DTSTAMP:20260422T080054Z
SUMMARY:American World Dentistry  &amp\; Oral Health Congress
DESCRIPTION:We are delighted to welcome you to the American World Dentistry &amp\; Oral Health Congress (American Dentistry Congress 2026)\, scheduled to take place on September 17–18\, 2026\, in Toronto\, Canada\, and through a virtual platform for participants joining remotely. Centered on the theme “Advancing Oral Healthcare Through Innovation\, Research\, and Global Collaboration\,” this congress will serve as a dynamic international forum for dentists\, oral surgeons\, orthodontists\, periodontists\, prosthodontists\, dental hygienists\, researchers\, academicians\, and healthcare leaders to exchange cutting-edge knowledge and shape the future of oral healthcare. This event brings together professionals from diverse specialties—including restorative dentistry\, cosmetic dentistry\, implantology\, endodontics\, pediatric dentistry\, oral and maxillofacial surgery\, prosthodontics\, periodontics\, and dental public health—offering a comprehensive platform for professional development\, research dissemination\, and collaborative learning.
LOCATION:Toronto\, Canada\, Toronto\, Canada \, Hilton Toronto\, Hilton Toronto\, M5H 2L2\, Canada
URL:https://eventstopten.com/events/american-world-dentistry-oral-health-congress/
END:VEVENT
END:VCALENDAR