BEGIN:VCALENDAR
VERSION:2.0
PRODID:-//wp-events-plugin.com//6.0.1.1//EN
BEGIN:VEVENT
UID:33274000-37ed-46cf-b753-76770b0f8f4a
DTSTART:20260521T164500Z
DTEND:20260521T203000Z
DTSTAMP:20260421T000013Z
SUMMARY:Advance to Leadership: Premier EMBA Brussels Networking Cocktail Event
DESCRIPTION:The Premier EMBA event in Brussels is an exclusive\, free-of-charge experience designed for experienced professionals and senior executives exploring world-class Executive MBA programmes.\n- Date: 21 May\n- Venue: NH Carrefour de l'Europe\n________________________________________\nA curated environment for strategic career decisions\nThis invitation-only-style event offers direct access to admissions directors from globally ranked business schools\, enabling you to engage in focused\, high-value conversations about your future.\nParticipating institutions include Vlerick Business School\, Antwerp Management School\, INSEAD\, Kellogg-WHU\, London Business School\, HEC Paris\, IESE\, ESCP\, among many others.\n________________________________________
LOCATION:Hotel NH Brussels Carrefour de l'Europe\, 110 Rue du Marche aux Herbes\, Bruxelles\, Bruxelles\, 1000\, Belgium
URL:https://eventstopten.com/events/advance-to-leadership-premier-emba-brussels-networking-cocktail-event/
END:VEVENT
END:VCALENDAR