BEGIN:VCALENDAR
VERSION:2.0
PRODID:-//wp-events-plugin.com//6.0.1.1//EN
BEGIN:VEVENT
UID:07dbc64a-4813-40c7-a3d9-167e4c2cdec0
DTSTART:20261019T090000Z
DTEND:20261020T180000Z
DTSTAMP:20260330T080049Z
SUMMARY:9th World Conference on Gynecology\, Midwifery &amp\; Maternal Health
DESCRIPTION:It is our pleasure to invite you and your team to join as an Speaker or Delegate for the upcoming 9th World Conference on Gynecology\, Midwifery &amp\; Maternal Health\, scheduled for October 19–20\, 2026\, in Los Angeles\, USA.\nThis international conference offers a unique platform to connect with leading physicians\, scientists\, clinical researchers\, academic experts and decision-makers in healthcare and biomedical sciences.
LOCATION:Los Angeles\, USA\, Los Angeles\, USA\, Los Angeles\, California\, 39056\, California\, United States
URL:https://eventstopten.com/events/9th-world-conference-on-gynecology-midwifery-maternal-health/
END:VEVENT
END:VCALENDAR