BEGIN:VCALENDAR
VERSION:2.0
PRODID:-//wp-events-plugin.com//6.0.1.1//EN
BEGIN:VEVENT
UID:5a0a7500-be0d-45b8-9254-02b7c4e8d4f0
DTSTART;VALUE=DATE:20261023
DTEND;VALUE=DATE:20261026
DTSTAMP:20260313T094535Z
SUMMARY:9th International Conference on Robotics\, Control and Automation Engineering (RCAE 2026)
DESCRIPTION:2026 9th International Conference on Robotics\, Control and Automation Engineering (RCAE 2026) will take place in Baoding\, China during October 23-25\, 2026. The conference is sponsored by North China Electric Power University. Researchers\, engineers\, practitioners\, and students from industry\, universities\, and government agencies are invited to present their latest work and discuss research and applications for robotics\, control\, and automation engineering cooperation. Technical sessions\, poster sessions\, and technical visits will be organized.
LOCATION:Baoding\, Baoding\, Baoding\, China\, Baoding\, China
URL:https://eventstopten.com/events/9th-international-conference-on-robotics-control-and-automation-engineering-rcae-2026/
END:VEVENT
END:VCALENDAR