BEGIN:VCALENDAR
VERSION:2.0
PRODID:-//wp-events-plugin.com//6.0.1.1//EN
BEGIN:VEVENT
UID:63cc9c84-1bec-4b9b-8521-96b952774474
DTSTART;VALUE=DATE:20261030
DTEND;VALUE=DATE:20261102
DTSTAMP:20260313T094541Z
SUMMARY:9th International Conference on Robotic Systems and Applications (ICRSA 2026)
DESCRIPTION:2026 9th International Conference on Robotic Systems and Applications (ICRSA 2026) will be held from October 30-November 1\, 2026 in Huizhou\, China. The conference is sponsored by Huizhou University\, China. It aims to facilitate technology and knowledge exchange among international researchers/scholars in the field of Robotic Systems and applications. We can proudly say that ICRSA 2026 conference is going to be even more of a truly international and an excellent forum for both young and experienced researchers and seasoned academics to present and defend their work on a global stage. Sharing experiences and difficulties between researchers with mentoring new researchers is where we ensure research is taken to the boundaries of new knowledge.
LOCATION:Huizhou\, Huizhou\, Huizhou\, China\, Huizhou\, China
URL:https://eventstopten.com/events/9th-international-conference-on-robotic-systems-and-applications-icrsa-2026/
END:VEVENT
END:VCALENDAR