BEGIN:VCALENDAR
VERSION:2.0
PRODID:-//wp-events-plugin.com//6.0.1.1//EN
BEGIN:VEVENT
UID:f36275fa-4db5-4fd8-bb6c-e42d8379ea3d
DTSTART;VALUE=DATE:20260926
DTEND;VALUE=DATE:20260929
DTSTAMP:20260313T094530Z
SUMMARY:9th International Conference on Renewable Energy and Power Engineering (REPE 2026)
DESCRIPTION:As annual conference\, REPE has been held in Toronto (2018 and 2019)\, converted as Virtual Conference (2020\, 2021\, 2022)\, Beijing (2023\, 2024\, 2025) successfully. 2026 9th International Conference on Renewable Energy and Power Engineering (REPE) will be held in Beijing\, China during September 26-28\, 2026\, co-sponsored by Tsinghua University\, hosted by the Department of Electrical Engineering (Tsinghua University) and Sichuan Energy Internet Research Insitute (Tsinghua University)\, co-hosted by North China Electric Power University and the Institute of Engineering Thermophysics(Chinese Academy of Sciences).
LOCATION:Beijing\, Beijing\, Beijing\, China\, Beijing\, China
URL:https://eventstopten.com/events/9th-international-conference-on-renewable-energy-and-power-engineering-repe-2026/
END:VEVENT
END:VCALENDAR