BEGIN:VCALENDAR
VERSION:2.0
PRODID:-//wp-events-plugin.com//6.0.1.1//EN
BEGIN:VEVENT
UID:dc15c918-5f5c-498a-bc88-706fcd780f20
DTSTART;VALUE=DATE:20260827
DTEND;VALUE=DATE:20260830
DTSTAMP:20260313T120041Z
SUMMARY:9th International Conference on Information Science and Systems (ICISS 2026)
DESCRIPTION:We would like to warmly welcome you to attend the 9th International Conference on Information Science and Systems (ICISS 2026)\, which will be held at University of Cambridge\, Cambridge\, UK during August 27-29\, 2026.
LOCATION:Robinson College\, University of Cambridge\, Porters' Lodge\, Robinson College\, Grange Road\, Cambridge\, CB3 9AN\, UK\, Cambridge\, UK\, CB3 9AN\, United Kingdom
URL:https://eventstopten.com/events/9th-international-conference-on-information-science-and-systems-iciss-2026/
END:VEVENT
END:VCALENDAR