BEGIN:VCALENDAR
VERSION:2.0
PRODID:-//wp-events-plugin.com//6.0.1.1//EN
BEGIN:VEVENT
UID:abdf31ee-08d3-459f-88aa-c4575533763b
DTSTART;VALUE=DATE:20270109
DTEND;VALUE=DATE:20270112
DTSTAMP:20260401T080050Z
SUMMARY:9th International Conference on Image Processing and Machine Vision (IPMV 2027)
DESCRIPTION:2027 9th International Conference on Image Processing and Machine Vision (IPMV 2027) will be held in Tokyo\, Japan during January 9-11\, 2027\, which is co-sponsored by Kogakuin University\, Japan.
LOCATION:Tokyo\, Tokyo\, Tokyo\, Japan\, Tokyo\, Japan
URL:https://eventstopten.com/events/9th-international-conference-on-image-processing-and-machine-vision-ipmv-2027/
END:VEVENT
END:VCALENDAR