BEGIN:VCALENDAR
VERSION:2.0
PRODID:-//wp-events-plugin.com//6.0.1.1//EN
BEGIN:VEVENT
UID:423be78e-7d7a-4fba-b822-d89697dada7f
DTSTART;VALUE=DATE:20261204
DTEND;VALUE=DATE:20261207
DTSTAMP:20260401T080048Z
SUMMARY:9th International Conference on Electronics and Electrical Engineering Technology (EEET 2026)
DESCRIPTION:On behalf of the Organizing Committee\, we are pleased to invite you to participate in 2026 9th International Conference on Electronics and Electrical Engineering Technology (EEET 2026). EEET 2026 will be held on December 4-6\, 2026 in Tianjin\, China.
LOCATION:\, \, 
URL:https://eventstopten.com/events/9th-international-conference-on-electronics-and-electrical-engineering-technology-eeet-2026/
END:VEVENT
END:VCALENDAR