BEGIN:VCALENDAR
VERSION:2.0
PRODID:-//wp-events-plugin.com//6.0.1.1//EN
BEGIN:VEVENT
UID:2cc451d8-688a-4520-b9ed-b2c2dde7e007
DTSTART;VALUE=DATE:20261016
DTEND;VALUE=DATE:20261019
DTSTAMP:20260313T121527Z
SUMMARY:9th International Conference on Educational Technology Management (ICETM 2026)
DESCRIPTION:It is our great pleasure to welcome you all to 2026 the 9th International Conference on Educational Technology Management (ICETM)\, which will be held in Shenzhen\, China during October 16-18\, 2026\, sponsored by South University of Science and Technology\, China\, hosted by SUSTech Center for Future Education Research\, South University of Science and Technology\, China.
LOCATION:South University of Science and Technology\, China\, 1088 Xueyuan Avenue\, Shenzhen 518055\, P.R. China\, Shenzhen\, China\, 518055\, China
URL:https://eventstopten.com/events/9th-international-conference-on-educational-technology-management-icetm-2026/
END:VEVENT
END:VCALENDAR