BEGIN:VCALENDAR
VERSION:2.0
PRODID:-//wp-events-plugin.com//6.0.1.1//EN
BEGIN:VEVENT
UID:a8d884dd-f4b7-4d2d-a2ac-43e229ab06db
DTSTART;VALUE=DATE:20260918
DTEND;VALUE=DATE:20260921
DTSTAMP:20260313T074548Z
SUMMARY:9th International Conference on Artificial Intelligence and Pattern Recognition (AIPR 2026)
DESCRIPTION:Following the eight successful previous editions of AIPR (Beijing 2018\, Beijing 2019 and Virtual Conferences in 2020\, 2021\, 2022\, Xiamen 2023 &amp\; 2024\, Quanzhou 2025)\, the 9th edition of AIPR will be held in Xiamen\, China  during September 18-20\, 2026. AIPR2026 is mainly organised by Huaqiao University\, and co-sponsored by Fujian Cyberspace Security Association\, Wuhan Institute of Technology and Minnan Normal University.
LOCATION:\, \, 
URL:https://eventstopten.com/events/9th-international-conference-on-artificial-intelligence-and-pattern-recognition-aipr-2026/
END:VEVENT
END:VCALENDAR