BEGIN:VCALENDAR
VERSION:2.0
PRODID:-//wp-events-plugin.com//6.0.1.1//EN
BEGIN:VEVENT
UID:febbc9cb-5b2d-46aa-8604-a643b8f592ab
DTSTART;VALUE=DATE:20260807
DTEND;VALUE=DATE:20260811
DTSTAMP:20260313T141625Z
SUMMARY:8th International Conference on System Reliability and Safety Engineering (SRSE 2026)
DESCRIPTION:We are pleased to announce that 2026 the 8th International Conference on System Reliability and Safety Engineering (SRSE) is to be held in Xi'an\, China from August 07-10\, 2026. The conference is sponsored by Xi’an Jiaotong University\, National University of Singapore\, IEEE\, co-sponsored by Shenyang Institute of Automation\, Chinese Academy of Sciences\, School of Electrical Engineering and Automation\, Harbin Institute of Technology\, The Fifth Electronics Research Institute of the Ministry of Industry and Information Technology (CEPREI).
LOCATION:Xi'an\, Xi'an\, Xi'an\, China\, Xi'an\, China
URL:https://eventstopten.com/events/8th-international-conference-on-system-reliability-and-safety-engineering-srse-2026/
END:VEVENT
END:VCALENDAR