BEGIN:VCALENDAR
VERSION:2.0
PRODID:-//wp-events-plugin.com//6.0.1.1//EN
BEGIN:VEVENT
UID:cb155afa-6040-4649-9924-76a088d85760
DTSTART;VALUE=DATE:20261122
DTEND;VALUE=DATE:20261125
DTSTAMP:20260313T150109Z
SUMMARY:8th International Conference on Nanomaterials\, Materials and Manufacturing Engineering (ICNMM 2026)
DESCRIPTION:2026 8th International Conference on Nanomaterials\, Materials and Manufacturing Engineering (ICNMM 2026) will be held in Toyama\, Japan during November 22-24\, 2026.\nICNMM will bring together the top researchers from Asian Pacific nations\, North America\, Europe and around the world to exchange their research results and address open issues in biomaterials\, biomedical manufacturing\, casting and solidification\, characterisation\, coatings and surface engineering\, composite materials\, etc. and address academic/industrial issues in welding\, joining\, additive manufacturing. It is one of the leading international conferences for presenting novel and fundamental advances in the fields of nanomaterials\, materials and manufacturing engineering.
LOCATION:Toyama International Conference\, 1-2 Ote-machi Toyama-city Toyama 930-0084\, Japan\, Toyama\, Japan\, 930-0084\, Japan
URL:https://eventstopten.com/events/8th-international-conference-on-nanomaterials-materials-and-manufacturing-engineering-icnmm-2026/
END:VEVENT
END:VCALENDAR