BEGIN:VCALENDAR
VERSION:2.0
PRODID:-//wp-events-plugin.com//6.0.1.1//EN
BEGIN:VEVENT
UID:a2f21b1f-5a56-423f-b62d-79dba0bf5285
DTSTART;VALUE=DATE:20261113
DTEND;VALUE=DATE:20261116
DTSTAMP:20260313T214509Z
SUMMARY:8th International Conference on Mechatronics\, Robotics and Automation (ICMRA 2026)
DESCRIPTION:2026 8th International Conference on Mechatronics\, Robotics and Automation (ICMRA 2026) will be held in Suzhou\, China during November 13-15\, 2026. It's sponsored by Suzhou University of Science and Technology\, hosted by School of Electronic &amp\; Information Engineering\, Suzhou University of Science and Technology\, China.
LOCATION:\, \, 
URL:https://eventstopten.com/events/8th-international-conference-on-mechatronics-robotics-and-automation-icmra-2026/
END:VEVENT
END:VCALENDAR