BEGIN:VCALENDAR
VERSION:2.0
PRODID:-//wp-events-plugin.com//6.0.1.1//EN
BEGIN:VEVENT
UID:a2a876d4-f0af-4f1d-aefe-16c4cd97b664
DTSTART;VALUE=DATE:20270122
DTEND;VALUE=DATE:20270125
DTSTAMP:20260423T160039Z
SUMMARY:8th International Conference on Advances in Education and Information Technology (AEIT 2027)
DESCRIPTION:2027 8th International Conference on Advances in Education and Information Technology will be held in Osaka\, Japan during January 22-24. As a premier conference\, AEIT aims to provide a good forum for scientists\, researchers\, engineers and industrial practitioners throughout the world to present and discuss the latest technology advancement as well as future directions and trends in education technology.
LOCATION:Ritsumeikan University - Osaka Ibaraki Campus (OIC)\, 2-150 Iwakuracho\, Ibaraki\, Osaka 567-8570 Japan\, Osaka\, Japan\, 567-8570\, Japan
URL:https://eventstopten.com/events/8th-international-conference-on-advances-in-education-and-information-technology-aeit-2027/
END:VEVENT
END:VCALENDAR