BEGIN:VCALENDAR
VERSION:2.0
PRODID:-//wp-events-plugin.com//6.0.1.1//EN
BEGIN:VEVENT
UID:cf6b757c-14ea-43eb-bd68-4f71d1f75eb5
DTSTART;VALUE=DATE:20261218
DTEND;VALUE=DATE:20261222
DTSTAMP:20260312T095310Z
SUMMARY:8th Asia Digital Image Processing Conference (ADIP 2026)
DESCRIPTION:2026 8th Asia Digital Image Processing Conference (ADIP 2026) aims to provide a forum for researchers\, practitioners\, and professionals from the industry\, academia and government to discourse on research and development\, professional practice in Digital Image Processing.  ADIP 2026  will be held in The University of Electro-Communications\, Tokyo\, Japan during December 18-21\, 2026 .  Welcome scholars and researchers working in the field of Digital Image Processing from all over the world to attend the conference and share your experiences and lessons with other enthusiasts\, and develop opportunities for cooperation.
LOCATION:The University of Electro-Communications\, Tokyo\, Japan\, 1-5-1 Chofu-ga-oka\, Chofu-shi\, Tokyo 182-8585\, Tokyo\, Japan\, 182-8585\, Japan
URL:https://eventstopten.com/events/8th-asia-digital-image-processing-conference-adip-2026/
END:VEVENT
END:VCALENDAR