BEGIN:VCALENDAR
VERSION:2.0
PRODID:-//wp-events-plugin.com//6.0.1.1//EN
BEGIN:VEVENT
UID:18175920-a47c-433d-8a6e-861129eb0220
DTSTART;VALUE=DATE:20261105
DTEND;VALUE=DATE:20261109
DTSTAMP:20260313T111543Z
SUMMARY:8th Asia Conference on Material and Manufacturing Technology (ACMMT 2026)
DESCRIPTION:2026 8th Asia Conference on Material and Manufacturing Technology (ACMMT 2026). It will be held in Bangkok\, Thailand during November 5-8\, 2026.\n\nACMMT will provide this international forum for experts in academia\, industry\, and government to discuss their new ideas\, research results\, applications and experience on all aspects of Material and Manufacturing Technology.
LOCATION:Chulalongkorn University\, Thailand\, 254 Phaya Thai Rd\, Wang Mai\, Pathum Wan\, Bangkok 10330\, Thailand\, Bangkok\, Thailand\, Bangkok\, Thailand
URL:https://eventstopten.com/events/8th-asia-conference-on-material-and-manufacturing-technology-acmmt-2026/
END:VEVENT
END:VCALENDAR