BEGIN:VCALENDAR
VERSION:2.0
PRODID:-//wp-events-plugin.com//6.0.1.1//EN
BEGIN:VEVENT
UID:6e13012c-9827-461e-a2f7-29b641156344
DTSTART;VALUE=DATE:20261113
DTEND;VALUE=DATE:20261116
DTSTAMP:20260313T144548Z
SUMMARY:7th International Conference on Power and Electrical Engineering(ICPEE 2026)
DESCRIPTION:The 7th International Conference on Power and Electrical Engineering (ICPEE 2026) will be held in Singapore from November 13-15\, 2026. ICPEE 2025 aims to provide a platform for researchers\, engineers\, and industry experts to share their latest research findings and innovative ideas in the field of power and electrical engineering. The conference will cover a wide range of topics\, including power generation\, transmission\, and distribution\, renewable energy systems\, energy storage\, electric vehicles\, smart grids\, and power electronics.
LOCATION:Nanyang Technological University\, 50 Nanyang Ave\, Singapore 639798\, Singapore\, Singapore\, 639798\, Singapore
URL:https://eventstopten.com/events/7th-international-conference-on-power-and-electrical-engineeringicpee-2026/
END:VEVENT
END:VCALENDAR