BEGIN:VCALENDAR
VERSION:2.0
PRODID:-//wp-events-plugin.com//6.0.1.1//EN
BEGIN:VEVENT
UID:a4809521-c6b3-4419-b65f-88206a38ca76
DTSTART:20260516T060000Z
DTEND:20260517T033000Z
DTSTAMP:20260422T160117Z
SUMMARY:7th International Conference on Natural Language Processing and Machine Learning (NLPML 2026)
DESCRIPTION:The 7th International Conference on Natural Language Processing and Machine Learning (NLPML 2026) brings together researchers\, innovators\, and industry leaders to explore the latest breakthroughs shaping the future of language and learning technologies. As NLP and ML continue to evolve through advances in large language models\, multimodal systems\, and data driven AI\, NLPML 2026 offers a dynamic platform for sharing cutting edge ideas and impactful research. \n\n 
LOCATION:\, \, 
URL:https://eventstopten.com/events/7th-international-conference-on-natural-language-processing-and-machine-learning-nlpml-2026/
END:VEVENT
END:VCALENDAR