BEGIN:VCALENDAR
VERSION:2.0
PRODID:-//wp-events-plugin.com//6.0.1.1//EN
BEGIN:VEVENT
UID:f940871d-a289-4ed3-bc83-3f6699fecb34
DTSTART:20260620T090000Z
DTEND:20260621T180000Z
DTSTAMP:20260423T080155Z
SUMMARY:7th International Conference on Machine Learning &amp\; Trends (MLT 2026)
DESCRIPTION:7th International Conference on Machine Learning &amp\; Trends (MLT 2026) serves as a premier global forum for presenting and exchanging the latest advancements in Machine Learning theory\, methodologies\, and real world applications. As machine learning continues to shape the future of intelligent systems\, scientific discovery\, and industry innovation\, MLT 2026 aims to bring together leading researchers\, practitioners\, and industry experts to explore emerging trends and transformative breakthroughs in the field.\n\n&nbsp\;\n\nThe conference provides a dynamic platform for fostering collaboration between academia and industry\, encouraging the cross pollination of ideas that drive the next generation of machine learning technologies. Participants will have the opportunity to engage with cutting edge research\, discuss open challenges\, and identify new directions that will influence the evolution of ML in the years ahead.\n\n&nbsp\;\n\nAuthors are invited to contribute high quality submissions that showcase original research results\, innovative projects\, comprehensive surveys\, and industrial case studies demonstrating significant progress in machine learning and its rapidly expanding ecosystem. Contributions may address\, but are not limited to\, the broad range of topics outlined below.
LOCATION:\, \, 
URL:https://eventstopten.com/events/7th-international-conference-on-machine-learning-trends-mlt-2026/
END:VEVENT
END:VCALENDAR