BEGIN:VCALENDAR
VERSION:2.0
PRODID:-//wp-events-plugin.com//6.0.1.1//EN
BEGIN:VEVENT
UID:bd984e63-a7f9-4d94-a671-ffa0b210dc0c
DTSTART:20260822T000000Z
DTEND:20260823T000000Z
DTSTAMP:20260330T160027Z
SUMMARY:7th International Conference on Education and Integrating Technology (EDTECH 2026)
DESCRIPTION:7th International Conference on Education and Integrating Technology (EDTECH 2026) is an interdisciplinary form for educators who wish to improve the quality of instruction through the use of computers and how to implement it effectively into instruction. It also aims to provide a platform for exchanging ideas in new emerging trends that needs more focus and exposure and will attempt to publish proposals that strengthen our goals.
LOCATION:Dubai\, UAE\, Dubai\, UAE\, Dubai\, UAE\, Dubai\, UAE\, Dubai\, UAE\, Dubai\, UAE\, United Arab Emirates
URL:https://eventstopten.com/events/7th-international-conference-on-education-and-integrating-technology-edtech-2026/
END:VEVENT
END:VCALENDAR