BEGIN:VCALENDAR
VERSION:2.0
PRODID:-//wp-events-plugin.com//6.0.1.1//EN
BEGIN:VEVENT
UID:bf391811-167d-45ae-bb31-9ac6f3cbe03c
DTSTART:20260425T090000Z
DTEND:20260426T180000Z
DTSTAMP:20260313T231510Z
SUMMARY:7th International Conference on Data Mining &amp\; Machine Learning (DMML 2026)
DESCRIPTION:Call for Papers\n&nbsp\;\n7th International Conference on Data Mining &amp\; Machine Learning (DMML 2026) will act as a major forum for the presentation of innovative ideas\, approaches\, developments\, and research projects in the areas of Data Mining and Machine Learning. It will also serve to facilitate the exchange of information between researchers and industry professionals to discuss the latest issues and advancement in the area of Data Mining and Machine Learning.
LOCATION:Copenhagen\, Denmark\, Copenhagen\, Denmark\, Copenhagen\, Denmark\, Copenhagen\, Denmark\, 123456\, Denmark
URL:https://eventstopten.com/events/7th-international-conference-on-data-mining-machine-learning-dmml-2026/
END:VEVENT
END:VCALENDAR