BEGIN:VCALENDAR
VERSION:2.0
PRODID:-//wp-events-plugin.com//6.0.1.1//EN
BEGIN:VEVENT
UID:20f17da3-1d05-4c51-89a8-8af684665fe3
DTSTART;VALUE=DATE:20260916
DTEND;VALUE=DATE:20260919
DTSTAMP:20260313T074559Z
SUMMARY:7th International Conference on Computer Science\, Engineering\, and Education (CSEE 2026)
DESCRIPTION:We are delighted to extend a warm welcome to all attendees of the 7th International Conference on Computer Science\, Engineering\, and Education (CSEE 2026)\, taking place during September 16-18\, 2026\, in Barcelona\, Spain. Sponsored by University of Barcelona\, Spain.\n\nCSEE 2026 serves as a platform for knowledge sharing\, collaboration\, and fostering innovative ideas that shape the future of the fields of computer science\, engineering\, and education. This conference aims to foster collaboration\, encourage interdisciplinary approaches\, and contribute to the development and dissemination of cutting-edge research and practices.
LOCATION:\, \, 
URL:https://eventstopten.com/events/7th-international-conference-on-computer-science-engineering-and-education-csee-2026/
END:VEVENT
END:VCALENDAR