BEGIN:VCALENDAR
VERSION:2.0
PRODID:-//wp-events-plugin.com//6.0.1.1//EN
BEGIN:VEVENT
UID:9d9f40bc-eecd-4c28-8c94-76f26f72de35
DTSTART:20260620T100000Z
DTEND:20260621T040000Z
DTSTAMP:20260423T000034Z
SUMMARY:7th International Conference on Advanced Natural Language Processing (AdNLP 2026)
DESCRIPTION:7th International Conference on Advanced Natural Language Processing (AdNLP 2026) serves as a premier global forum for researchers\, practitioners and industry innovators to exchange cutting edge insights in the rapidly evolving field of Natural Language Processing. As NLP continues to transform the landscape of artificial intelligence\, driving advancements in communication\, knowledge discovery\, and intelligent systems\, AdNLP 2026 provides a vital platform for showcasing the latest theoretical developments\, methodological breakthroughs\, and impactful real-world applications. 
LOCATION:\, \, 
URL:https://eventstopten.com/events/7th-international-conference-on-advanced-natural-language-processing-adnlp-2026-2/
END:VEVENT
END:VCALENDAR