BEGIN:VCALENDAR
VERSION:2.0
PRODID:-//wp-events-plugin.com//6.0.1.1//EN
BEGIN:VEVENT
UID:59aa799d-d4c2-495f-bcd2-4a514aacd95b
DTSTART:20261111T000000Z
DTEND:20261112T000000Z
DTSTAMP:20260424T160139Z
SUMMARY:6th International Conference on Otorhinolaryngology
DESCRIPTION:Scientex Conferences warmly welcomes all the Participants\, Scientists and Delegates from the globe to join our conference "6th International Conference on Otorhinolaryngology" during November 11-12\, 2026 in Bangkok\, Thailand. Otorhinolaryngology 2026 is organized around the theme "Innovative ENT Healthcare: Pioneering Technologies\, Clinical Progress &amp\; Collaborative Care" that will mark a gathering of pioneers and experts from the Medicinal Industry.
LOCATION:Bangkok\, 1880 New Petchaburi Road\, Bangkapi Huay Kwang\, Bangkok\, 10310 - Thailand\, Bangkok\, Thailand\, 10310\, Thailand
URL:https://eventstopten.com/events/6th-international-conference-on-otorhinolaryngology/
END:VEVENT
END:VCALENDAR