BEGIN:VCALENDAR
VERSION:2.0
PRODID:-//wp-events-plugin.com//6.0.1.1//EN
BEGIN:VEVENT
UID:5917f693-7566-407b-86f8-4956cf74ebfa
DTSTART:20260715T090000Z
DTEND:20260717T170000Z
DTSTAMP:20260419T160039Z
SUMMARY:6th International Conference on Lymphocyte Engineering (ICLE 2026)
DESCRIPTION:Join the 6th International Conference on Lymphocyte Engineering (ICLE)\, taking place 15–17 July 2026 in Milan.\n\nICLE 2026 brings together global experts to discuss the latest advances in lymphocyte engineering\, including gene and cell therapies\, genome editing\, and in vivo approaches. The program highlights recent clinical progress and emerging technologies across cancer\, autoimmune\, and infectious diseases.\n\nFeaturing keynote speaker Andreas Mackensen and organized in collaboration with the Italian Society of Gene and Cell Therapy (SITGEC)\, the meeting offers a focused platform for scientific exchange\, real-world insights\, and collaboration.\n\nRegular Registration Deadline: 30 June 2026\n\nSpeakers: Adi Barzel\, Dirk Busch\, Chiara Bonini\, Luigi Naldini\, Andreas Mackensen\, Marcela Maus\, James Riley
LOCATION:San Raffaele Congress Center within the San Raffaele Hospital and University Campus\, 60 Via Olgettina\, Milano\, Lombardia\, 20132\, Italy
URL:https://eventstopten.com/events/6th-international-conference-on-lymphocyte-engineering-icle-2026/
END:VEVENT
END:VCALENDAR