BEGIN:VCALENDAR
VERSION:2.0
PRODID:-//wp-events-plugin.com//6.0.1.1//EN
BEGIN:VEVENT
UID:0b3fde02-1791-408e-8fce-63eb6f284a6f
DTSTART;VALUE=DATE:20260918
DTEND;VALUE=DATE:20260921
DTSTAMP:20260313T084538Z
SUMMARY:6th International Conference on Computer Systems (ICCS 2026)
DESCRIPTION:2026 the 6th International Conference on Computer Systems will be held in Zhengzhou\, China from September 18-20\, 2026\, sponsored by Henan University\, China\; Organized by School of Artificial Intelligence\, Henan University\; Co-sponsored by Xi'an University of Science and Technology\, China.  This annual conference aims to bring together researchers\, academicians\, and industry professionals in the field of Computer Systems. The conference hopes to attract high-quality technical sessions and a large number of Delegates from around the world.
LOCATION:\, \, 
URL:https://eventstopten.com/events/6th-international-conference-on-computer-systems-iccs-2026/
END:VEVENT
END:VCALENDAR