BEGIN:VCALENDAR
VERSION:2.0
PRODID:-//wp-events-plugin.com//6.0.1.1//EN
BEGIN:VEVENT
UID:d4eefdda-fd5b-4524-ba4c-c200afd85b0a
DTSTART:20260429T000000Z
DTEND:20260501T000000Z
DTSTAMP:20260313T211634Z
SUMMARY:65th ISTANBUL International Conference on Research in Humanities\, Social Sciences &amp\; Education (RHSSE-26) scheduled on  April 29-May 1\, 2026 Istanbul (Türkiye)
DESCRIPTION:Humanities\nThe Humanities focus on the critical study of human culture\, using analytical\, speculative\, and critical methods.\n\n1. History\nHistorical Periods: Ancient History\, Medieval Studies\, Early Modern History\, Contemporary History.\n\nRegional Studies: European History\, American History\, Asian History\, Global History.\n\nThematic History: Economic History\, Cultural History\, Intellectual History\, Political History\, Diplomatic History\, Gender History.\n\nHistoriography: The study of historical writing\, sources\, and methods.\n\nPublic History: Museums\, Archives\, Oral History\, Historic Preservation.\n\n2. Literature and Languages\nLiterary Theory and Criticism: Structuralism\, Post-Structuralism\, Post-Colonialism\, Marxism\, Feminist Theory\, Deconstruction.\n\nGenres and Periods: Poetry\, Drama\, Prose (Novel\, Short Story)\, Classical Literature\, Renaissance Literature\, Modernism\, Postmodernism.\n\nComparative Literature: The study of literature across different national\, linguistic\, and cultural boundaries.\n\nLinguistics: Syntax\, Semantics\, Phonology\, Morphology\, Sociolinguistics\, Applied Linguistics.\n\nWorld Languages: Study of specific languages\, their structure\, culture\, and translation.\n\n3. Philosophy\nCore Branches: Metaphysics (Reality)\, Epistemology (Knowledge)\, Ethics (Morality)\, Logic (Reasoning)\, Aesthetics (Beauty/Art).\n\nPolitical Philosophy: Justice\, Rights\, Liberty\, Authority\, Democracy\, Totalitarianism (e.g.\, works of Plato\, Hobbes\, Locke\, Rawls).\n\nApplied Ethics: Bioethics\, Business Ethics\, Environmental Ethics.\n\nMajor Schools: Existentialism\, Rationalism\, Empiricism\, Utilitarianism\, Stoicism.\n\n4. Arts\, Culture\, and Media\nArt History: Visual Arts (Painting\, Sculpture\, Architecture) across different periods and cultures.\n\nMusicology: Theory\, Composition\, Ethnomusicology (study of music in its cultural context).\n\nFilm Studies: Film Theory\, Genre Studies\, National Cinemas\, Auteur Theory.\n\nReligious Studies: Comparative Religion\, Theology\, Sacred Texts\, Rituals\, Myth.\n\nSocial Sciences\nThe Social Sciences use empirical methods to study human society and social relationships.\n\n5. Sociology\nCore Concepts: Social Structure\, Social Stratification (Class\, Status\, Power)\, Culture\, Socialization.\n\nFields of Study: Sociology of the Family\, Criminology (Crime and Deviance)\, Urban Sociology\, Rural Sociology\, Political Sociology\, Sociology of Work.\n\nSocial Problems: Inequality\, Poverty\, Race and Ethnic Relations\, Gender Studies.\n\n6. Political Science\nPolitical Theory: Normative and empirical theories of politics and power.\n\nComparative Politics: Study of different political systems (e.g.\, democracies\, authoritarian regimes) and institutions.\n\nInternational Relations (IR): Theories (Realism\, Liberalism\, Constructivism)\, Diplomacy\, International Law\, Conflict Studies\, Global Governance.\n\nPublic Administration and Policy: Bureaucracy\, Policy Analysis\, Public Sector Management.\n\n7. Psychology\nMajor Approaches: Cognitive Psychology\, Behavioral Psychology\, Psychoanalysis\, Humanistic Psychology.\n\nSpecialized Areas: Developmental Psychology (Child/Adolescent/Lifespan)\, Social Psychology (Group Behavior\, Attitudes)\, Abnormal Psychology\, Counseling Psychology\, Clinical Psychology.\n\nNeuroscience: Biological basis of behavior and mental processes.\n\n8. Anthropology\nCultural Anthropology: Study of human cultures\, ethnography\, customs\, and beliefs.\n\nPhysical (Biological) Anthropology: Human evolution\, primatology\, forensics.\n\nLinguistic Anthropology: Relationship between language and culture.\n\nArchaeology: Study of human history and prehistory through the excavation of sites and analysis of artifacts.\n\n9. Economics (Social Science Aspect)\nBehavioral Economics: The study of how psychological factors influence economic decision-making.\n\nDevelopment Economics: Focus on economies of developing countries\, poverty\, and growth.\n\nLabor Economics: Socio-economic factors affecting employment\, wages\, and unions.\n\nEducation Studies\nEducation focuses on the theories\, methods\, and systems of teaching and learning.\n\n10. Educational Theory and Practice\nFoundations of Education: Philosophy of Education\, History of Education\, Sociology of Education.\n\nCurriculum and Instruction: Curriculum Design\, Instructional Design\, Pedagogical Theories (Constructivism\, Behaviorism).\n\nLearning Theories: Cognitive Load Theory\, Vygotsky's Sociocultural Theory\, Piaget's Stages of Development.\n\nAssessment and Evaluation: Formative and Summative Assessment\, Educational Measurement (Psychometrics).\n\n11. Specialized Educational Fields\nEducational Psychology: Study of how humans learn in educational settings.\n\nSpecial Education (SPED): Inclusive practices\, addressing various learning disabilities\, gifted education.\n\nEducational Leadership and Administration: School management\, policy\, finance\, and organizational change.\n\nHigher Education: College administration\, student affairs\, academic advising\, globalization of higher education.\n\nTechnology in Education (EdTech): Distance learning\, E-learning platforms\, Blended Learning models\, AI in education.
LOCATION:Istanbul\, Holiday Inn Istanbul City\, (5 Star)\, Istanbul\, Istanbul\, 34280\, Turkey
URL:https://eventstopten.com/events/65th-istanbul-international-conference-on-research-in-humanities-social-sciences-education-rhsse-26-scheduled-on-april-29-may-1-2026-istanbul-turkiye/
END:VEVENT
END:VCALENDAR