BEGIN:VCALENDAR
VERSION:2.0
PRODID:-//wp-events-plugin.com//6.0.1.1//EN
BEGIN:VEVENT
UID:fd9a051d-03bb-4c3b-a0cb-e736050efaf6
DTSTART:20260728T090000Z
DTEND:20260730T163000Z
DTSTAMP:20260420T080017Z
SUMMARY:5th In Vivo Cell Engineering and Gene Editing Summit
DESCRIPTION:Unlock the next frontier of cell and gene therapies at the 5th In Vivo Cell Engineering and Gene Editing Summit. This meeting is the leading industry forum dedicated to advancing in vivo delivery modalities\, editing technologies\, payload design\, and translational strategies.\n\nThis summit brings together pioneering scientists\, biotech innovators\, regulatory experts\, and therapeutic developers who are shaping the future of in vivo gene engineering. The program is designed to help teams accelerate therapeutic development\, overcome translational challenges\, and build safer\, more precise in vivo editing platforms.\n\nKey themes include:\n-	Next-generation delivery systems for in vivo gene engineering\n-	Advances in CRISPR\, base editing\, prime editing\, and programmable nucleases\n-	Novel vectors\, nanoparticles\, and targeted delivery strategies\n-	Safety\, durability\, biodistribution\, and immunogenicity considerations\n-	Regulatory insights and clinical development pathways\n-	Real-world case studies from leading biotech and pharma innovators\n\nWhether you're working in ex vivo and looking to add in vivo to your pipeline\, or have cemented your work in in vivo already\, this summit offers unparalleled access to the experts and insights driving the field forward.
LOCATION:Hotel Commonwealth\, 500 Commonwealth Avenue\, Boston\, Massachusetts\, 02215\, United States
URL:https://eventstopten.com/events/5th-in-vivo-cell-engineering-and-gene-editing-summit/
END:VEVENT
END:VCALENDAR