BEGIN:VCALENDAR
VERSION:2.0
PRODID:-//wp-events-plugin.com//6.0.1.1//EN
BEGIN:VEVENT
UID:16e6e760-e647-464e-8a69-d39b709db6a9
DTSTART:20260428T080000Z
DTEND:20260430T170000Z
DTSTAMP:20260313T080013Z
SUMMARY:5th GPCRs-Targeted Drug Discovery Summit
DESCRIPTION:The GPCR field is experiencing a renaissance\, driven by renewed investment\, clinical progress\, and next-generation technologies unlocking hundreds of previously untargeted receptors. With rapid advances in structural biology\, computation\, and screening\, the race is on to validate new GPCRs\, understand dynamic activation mechanisms\, and develop assays that better predict therapeutic efficacy and guide smarter candidate selection.\n\nReturning as the only industry-led meeting dedicated to GPCR drug discovery\, the 5th GPCR-Targeted Drug Discovery Summit features a jam-packed agenda featuring new expert voices\, and fresh insights spanning the latest targets\, tools\, and therapeutic strategies.\n\nJoin 80+ GPCR-focused leaders across biopharma to share insights\, build collaborations\, and accelerate next-generation therapeutics from discovery to clinic.
LOCATION:\, \, 
URL:https://eventstopten.com/events/5th-gpcrs-targeted-drug-discovery-summit/
END:VEVENT
END:VCALENDAR