BEGIN:VCALENDAR
VERSION:2.0
PRODID:-//wp-events-plugin.com//6.0.1.1//EN
BEGIN:VEVENT
UID:ab17bb77-6b35-4041-8d81-dce08eee9e45
DTSTART:20261016T090000Z
DTEND:20261018T180000Z
DTSTAMP:20260313T143043Z
SUMMARY:5th Edition of International Neurology Conference 2026
DESCRIPTION:Welcome to the 5th Edition of the International Neurology Conference (INC) 2026\, a premier global platform where innovation meets collaboration in neurology. Taking place from October  16 to 18\, 2026\, in Bangkok\, Thailand\, this event promises an inspiring blend of cutting-edge science and enriching dialogue.\n\nUnder the theme "Global Neurology: Addressing Brain Health Challenges Worldwide\," INC 2026 invites leading scientists\, dedicated clinicians\, and visionary innovators to gather and push the boundaries of neurological understanding. Together\, we will explore breakthroughs\, share insights\, and forge connections that will shape the future of brain health and care.
LOCATION:Ambassador Hotel Bangkok\, Ambassador Hotel Bangkok 171 Sukhumvit Soi 11\, Sukhumvit Road\, Klongtoey Nue\, Wattana\, 10110\, Bangkok\, Thailand\, Thailand\, Thailand\, 10110\, Thailand
URL:https://eventstopten.com/events/5th-edition-of-international-neurology-conference-2026/
END:VEVENT
END:VCALENDAR