BEGIN:VCALENDAR
VERSION:2.0
PRODID:-//wp-events-plugin.com//6.0.1.1//EN
BEGIN:VEVENT
UID:b57cb297-49cb-40e3-a35a-626a4222d2e0
DTSTART:20260727T000000Z
DTEND:20260729T000000Z
DTSTAMP:20260314T144517Z
SUMMARY:56th AMSTERDAM International Conference on Arts and Performing Arts (ICAPA-26)
DESCRIPTION:SOCIAL SCIENCES\, HUMANITIES\, History\, Arts\, English\, Interdisciplinary Studies\, Islamic Studies\, Language\, Linguistics\, Literature\, Local Government\, Multidisciplinary Studies\, Museums\, Music\, Philosophy\, Poetry\, Politics\, Psychology\, Religious Studies\, Social Sciences\, Sociology\, Women's history
LOCATION:ibis Schiphol Amsterdam Airport Hotel\, ibis Schiphol Amsterdam Airport Hotel\, Amsterdam\, Netherlands\, 10110\, Netherlands
URL:https://eventstopten.com/events/56th-amsterdam-international-conference-on-arts-and-performing-arts-icapa-26/
END:VEVENT
END:VCALENDAR