BEGIN:VCALENDAR
VERSION:2.0
PRODID:-//wp-events-plugin.com//6.0.1.1//EN
BEGIN:VEVENT
UID:8e97d868-5d69-46df-8f33-82d097fbe3f2
DTSTART:20261209T000000Z
DTEND:20261211T000000Z
DTSTAMP:20260420T160041Z
SUMMARY:55th LISBON International Conference on Research in “Science\, Engineering &amp\; Technology” (LRSET-2026) scheduled on Dec. 9-11\, 2026 Lisbon (Portugal)
DESCRIPTION:ENGINEERING\, TECHNOLOGY\, AI\, Automobile\, Bioinformatics\, Biomedical\, Chemical\, Computer\, Computing\, Electrical\, Energy\, Image Processing\, IT\, Manufacturing\, Mechanical\, Metallurgical\, Military\, Mining\, Nanotechnology\, Aviation
LOCATION:Lisbon\, Faculdade de Ciências Sociais e Humanas – NOVA FCSH University\, Lisbon\, Portugal\, 1069-061\, Portugal
URL:https://eventstopten.com/events/55th-lisbon-international-conference-on-research-in-science-engineering-technology-lrset-2026-scheduled-on-dec-9-11-2026-lisbon-portugal/
END:VEVENT
END:VCALENDAR