BEGIN:VCALENDAR
VERSION:2.0
PRODID:-//wp-events-plugin.com//6.0.1.1//EN
BEGIN:VEVENT
UID:c2ed3c5f-7d3c-44ce-badc-624c02613781
DTSTART:20260513T000000Z
DTEND:20260515T000000Z
DTSTAMP:20260313T224509Z
SUMMARY:54th LISBON World Congress on Research in Science\, Engineering &amp\; Technology (LRSET-26) scheduled on May 13-15\, 2026 Lisbon (Portugal)
DESCRIPTION:ENGINEERING\, TECHNOLOGY\, AI\, Automobile\, Bioinformatics\, Biomedical\, Chemical\, Computer\, Computing\, Electrical\, Energy\, Image Processing\, IT\, Manufacturing\, Mechanical\, Metallurgical\, Military\, Mining\, Nanotechnology\, Aviation\, Architecture\, Building Materials\, Civil Engineering\, Landscape\, Pollution\, Transportation
LOCATION:Lisbon\, Faculdade de Ciências Sociais e Humanas – NOVA FCSH\, Lisbon\, Portugal\, 1069-061\, Portugal
URL:https://eventstopten.com/events/54th-lisbon-world-congress-on-research-in-science-engineering-technology-lrset-26-scheduled-on-may-13-15-2026-lisbon-portugal-2/
END:VEVENT
END:VCALENDAR