BEGIN:VCALENDAR
VERSION:2.0
PRODID:-//wp-events-plugin.com//6.0.1.1//EN
BEGIN:VEVENT
UID:2d40c77f-7f30-4d8e-b9ec-bb67e0d0bbd2
DTSTART:20261209T000000Z
DTEND:20261211T000000Z
DTSTAMP:20260420T160045Z
SUMMARY:54th LISBON International Conference on Genetics\, Cellular and Molecular Biology (LGCMB-26) scheduled on Dec. 9-11\, 2026 Lisbon (Portugal)
DESCRIPTION:PHYSICAL AND LIFE SCIENCES\, Agriculture\, Aquaculture\, Archaeology\, Astronomy\, Biodiversity\, Biology\, Biotechnology\, Botany\, Chemistry\, Cellular &amp\; Molecular Biology\, Earth Sciences\, Ecology\, Environment\, Food and Nutrition\, Food Engineering\, Forestry\, GIS\, Genetics\, Medical Genetics\, Meteorology\, Microbiology\, Oceanography\, Physics\nSoil\, Waste Management\, Water
LOCATION:Lisbon\, Faculdade de Ciências Sociais e Humanas – NOVA FCSH University\, Lisbon\, Portugal\, 1069-061\, Portugal
URL:https://eventstopten.com/events/54th-lisbon-international-conference-on-genetics-cellular-and-molecular-biology-lgcmb-26-scheduled-on-dec-9-11-2026-lisbon-portugal/
END:VEVENT
END:VCALENDAR