BEGIN:VCALENDAR
VERSION:2.0
PRODID:-//wp-events-plugin.com//6.0.1.1//EN
BEGIN:VEVENT
UID:ddaaafc0-f792-4ec4-8964-f6692b4ba699
DTSTART:20260427T000000Z
DTEND:20260429T000000Z
DTSTAMP:20260313T211640Z
SUMMARY:53rd HELSINKI World Congress on Advances in Science\, Engineering &amp\; Technology (HWASET-26) April 27-29\, 2026 Helsinki (Finland)
DESCRIPTION:Call for papers/Topics\nTopics of interest for submission include any topics related to:\n\nScience\nNatural Sciences\n\nPhysics:\n\nClassical Mechanics (Dynamics\, Kinematics)\n\nElectromagnetism and Electronics\n\nThermodynamics and Statistical Mechanics\n\nQuantum Mechanics and Quantum Computing\n\nOptics and Lasers\n\nAcoustics\n\nAstrophysics and Cosmology\n\nCondensed Matter Physics\n\nParticle Physics (High Energy Physics)\n\nChemistry:\n\nOrganic Chemistry\n\nInorganic Chemistry\n\nPhysical Chemistry (Kinetics\, Thermodynamics)\n\nAnalytical Chemistry\n\nBiochemistry (at the intersection with Biology)\n\nMaterials Science (at the intersection with Engineering)\n\nGreen Chemistry and Sustainable Processes\n\nBiology (Life Sciences):\n\nCell and Molecular Biology\n\nGenetics and Genomics\n\nMicrobiology and Virology\n\nEcology and Environmental Science\n\nZoology and Botany\n\nPhysiology and Anatomy\n\nBiotechnology and Bioengineering\n\nFormal Sciences\nMathematics:\n\nCalculus and Analysis\n\nLinear Algebra and Abstract Algebra\n\nDifferential Equations\n\nDiscrete Mathematics\n\nProbability and Statistics\n\nTopology and Geometry\n\nComputer Science (Theoretical):\n\nTheory of Computation\n\nAlgorithms and Data Structures\n\nInformation Theory\n\nEarth and Space Sciences\nGeosciences:\n\nGeology and Geophysics\n\nHydrology and Water Resources\n\nSoil Science\n\nOceanography\n\nAtmospheric Science:\n\nMeteorology and Climatology\n\nAstronomy:\n\nPlanetary Science\n\nSpace Exploration\n\nEngineering\nMajor Engineering Disciplines\n\nCivil Engineering:\n\nStructural Engineering (Bridges\, Buildings)\n\nGeotechnical Engineering\n\nTransportation Engineering (Roads\, Rail)\n\nHydraulic and Water Resources Engineering\n\nEnvironmental Engineering (Water treatment\, Waste Management)\n\nMechanical Engineering:\n\nClassical Mechanics and Dynamics\n\nThermodynamics and Heat Transfer\n\nFluid Mechanics and Computational Fluid Dynamics (CFD)\n\nRobotics and Automation (at the intersection with Electrical)\n\nManufacturing and Production Engineering\n\nElectrical Engineering:\n\nPower Generation and Distribution (Smart Grids)\n\nElectronics and Microelectronics\n\nElectromagnetics\n\nControl Systems and Automation\n\nTelecommunications\n\nChemical Engineering:\n\nProcess Design and Optimization\n\nReaction Engineering\n\nSeparation Processes\n\nPetroleum and Refining Engineering\n\nAerospace Engineering:\n\nAeronautics (Aircraft design)\n\nAstronautics (Spacecraft design)\n\nPropulsion Systems\n\nCross-Disciplinary Engineering Fields\nComputer Engineering:\n\nHardware Architecture and Design\n\nEmbedded Systems\n\nVLSI Design\n\nBiomedical Engineering:\n\nMedical Imaging Technology\n\nBiomechanics and Prosthetics\n\nTissue Engineering and Regenerative Medicine\n\nBioinstrumentation\n\nMaterials Engineering:\n\nNanomaterials and Nanotechnology\n\nCeramics\, Polymers\, and Composites\n\nMetallurgy\n\nSoftware Engineering:\n\nSoftware Development Life Cycle\n\nSoftware Architecture and Design Patterns\n\nQuality Assurance and Testing\n\nIndustrial Engineering:\n\nOperations Research\n\nSupply Chain and Logistics\n\nErgonomics and Human Factors\n\nTechnology\nInformation and Digital Technology\n\nArtificial Intelligence (AI) &amp\; Machine Learning (ML):\n\nDeep Learning and Neural Networks\n\nNatural Language Processing (NLP)\n\nComputer Vision\n\nData Science:\n\nBig Data Analytics\n\nData Mining\n\nData Visualization\n\nCybersecurity:\n\nNetwork Security\n\nCryptography\n\nEthical Hacking\n\nData Privacy and Governance\n\nInternet and Networking:\n\nCloud Computing\n\nInternet of Things (IoT)\n\n5G/6G Networks\n\nWeb Development and Architecture\n\nEmerging Technologies:\n\nBlockchain Technology\n\nVirtual Reality (VR) and Augmented Reality (AR)\n\nApplied and Sustainable Technology\nRenewable Energy Technologies:\n\nSolar Photovoltaics and Thermal Power\n\n* Wind Energy Systems\n* Geothermal and Hydropower\n* Energy Storage (Batteries\, Fuel Cells)\nAdvanced Manufacturing:\n\n3D Printing (Additive Manufacturing)\n\nComputer-Aided Design (CAD) and Manufacturing (CAM)\n\nTransportation Technology:\n\nElectric Vehicles (EVs)\n\nAutonomous Driving Systems\n\nHigh-Speed Rail Technology
LOCATION:Helsinki\, Helsinki\, Helsinki\, Finland\, 01510\, Finland
URL:https://eventstopten.com/events/53rd-helsinki-world-congress-on-advances-in-science-engineering-technology-hwaset-26-april-27-29-2026-helsinki-finland/
END:VEVENT
END:VCALENDAR