BEGIN:VCALENDAR
VERSION:2.0
PRODID:-//wp-events-plugin.com//6.0.1.1//EN
BEGIN:VEVENT
UID:b67aaced-89dc-4314-a99c-137ac251f2e5
DTSTART:20260617T000000Z
DTEND:20260619T000000Z
DTSTAMP:20260314T114515Z
SUMMARY:52nd ROME International Conference on Advances in Science &amp\; Technology (RICAST-26) June 17-19\, 2026 Rome (Italy)
DESCRIPTION:ENGINEERING\, TECHNOLOGY\, AI\, Automobile\, Bioinformatics\, Biomedical\, Chemical\, Computer\, Computing\, Electrical\, Energy\, Image Processing\, IT\, Manufacturing\, Mechanical\, Metallurgical\, Military\, Mining\, Nanotechnology\, Aviation
LOCATION:Rome\, University of Washington Rome Center\, Rome\, Italy\, 00186\, Italy
URL:https://eventstopten.com/events/52nd-rome-international-conference-on-advances-in-science-technology-ricast-26-june-17-19-2026-rome-italy/
END:VEVENT
END:VCALENDAR