BEGIN:VCALENDAR
VERSION:2.0
PRODID:-//wp-events-plugin.com//6.0.1.1//EN
BEGIN:VEVENT
UID:83327e49-5afe-42cf-929f-6d02dab2f193
DTSTART:20260513T000000Z
DTEND:20260515T000000Z
DTSTAMP:20260314T000009Z
SUMMARY:52nd LISBON International Conference on Nursing and Medical Sciences (LICNMS-26) May 13-15\, 2026 Lisbon (Portugal)
DESCRIPTION:Agriculture\, Aquaculture\, Biodiversity\, Biology\, Biotechnology\, Botany\, Chemistry\, Cellular &amp\; Molecular Biology\, Ecology\, Environment\, Food\, GIS\, Genetics\, Microbiology\, Oceanography\, Physics\, Soil\, Waste Management\, Water
LOCATION:Lisbon\, Faculdade de Ciências Sociais e Humanas – NOVA FCSH\, Lisbon\, Portugal\, 1069-061\, Portugal
URL:https://eventstopten.com/events/52nd-lisbon-international-conference-on-nursing-and-medical-sciences-licnms-26-may-13-15-2026-lisbon-portugal/
END:VEVENT
END:VCALENDAR