BEGIN:VCALENDAR
VERSION:2.0
PRODID:-//wp-events-plugin.com//6.0.1.1//EN
BEGIN:VEVENT
UID:6a274f02-840d-438e-8c04-3adf13213f6c
DTSTART:20260513T000000Z
DTEND:20260515T000000Z
DTSTAMP:20260314T000010Z
SUMMARY:52nd LISBON International Conference on Business &amp\; Management Studies (LICBMS-26) May 13-15\, 2026 Lisbon (Portugal)
DESCRIPTION:SOCIAL SCIENCES\, HUMANITIES\, Anthropology\, Art History\, Arts\, English\, History\, Information Science\, Interdisciplinary Studies\, Islamic Studies\, Language\, inguistics\, Literature\, Local Government\, Multidisciplinary Studies\, Museums and Heritage\, Music\, Occupational Science\, Philosophy\, Poetry\, Politics\, Psychology\, Religious Studies\, Social Sciences\, Sociology\, Women's history
LOCATION:Lisbon\, Faculdade de Ciências Sociais e Humanas – NOVA FCSH\, Lisbon\, Portugal\, 1069-061\, Portugal
URL:https://eventstopten.com/events/52nd-lisbon-international-conference-on-business-management-studies-licbms-26-may-13-15-2026-lisbon-portugal/
END:VEVENT
END:VCALENDAR